BEGIN:VCALENDAR
VERSION:2.0
PRODID:-//Native Governance Center - ECPv6.15.17.1//NONSGML v1.0//EN
CALSCALE:GREGORIAN
METHOD:PUBLISH
X-ORIGINAL-URL:https://nativegov.org
X-WR-CALDESC:Events for Native Governance Center
REFRESH-INTERVAL;VALUE=DURATION:PT1H
X-Robots-Tag:noindex
X-PUBLISHED-TTL:PT1H
BEGIN:VTIMEZONE
TZID:America/Chicago
BEGIN:DAYLIGHT
TZOFFSETFROM:-0600
TZOFFSETTO:-0500
TZNAME:CDT
DTSTART:20220313T080000
END:DAYLIGHT
BEGIN:STANDARD
TZOFFSETFROM:-0500
TZOFFSETTO:-0600
TZNAME:CST
DTSTART:20221106T070000
END:STANDARD
BEGIN:DAYLIGHT
TZOFFSETFROM:-0600
TZOFFSETTO:-0500
TZNAME:CDT
DTSTART:20230312T080000
END:DAYLIGHT
BEGIN:STANDARD
TZOFFSETFROM:-0500
TZOFFSETTO:-0600
TZNAME:CST
DTSTART:20231105T070000
END:STANDARD
BEGIN:DAYLIGHT
TZOFFSETFROM:-0600
TZOFFSETTO:-0500
TZNAME:CDT
DTSTART:20240310T080000
END:DAYLIGHT
BEGIN:STANDARD
TZOFFSETFROM:-0500
TZOFFSETTO:-0600
TZNAME:CST
DTSTART:20241103T070000
END:STANDARD
END:VTIMEZONE
BEGIN:VEVENT
DTSTART;TZID=America/Chicago:20230827T090000
DTEND;TZID=America/Chicago:20230827T180000
DTSTAMP:20260419T110659
CREATED:20230613T145433Z
LAST-MODIFIED:20230613T145433Z
UID:10000033-1693126800-1693159200@nativegov.org
SUMMARY:State Fair: Indigenous Peoples' Day
DESCRIPTION:Are you planning to attend the Minnesota State Fair this year? In between all of those cheese curds\, midway rides\, and pronto pups\, stop by our booth on Indigenous Peoples’ Day at the Fair! \nWe’ll be tabling in Dan Patch Park (right outside of the grandstand) with other Indigenous organizations on August 27\, 2023 from 9:00 AM-5:00 PM. We’re grateful to NĀTIFS Indigenous Food Lab for hosting the event: this year’s theme is environmental and food justice for Indigenous people in Mni Sota Makoce.
URL:https://nativegov.org/event/minnesota-state-fair/
LOCATION:Dan Patch Park\, Minnesota State Fairgrounds\, St. Paul\, MN\, 55108\, United States
ATTACH;FMTTYPE=image/jpeg:https://nativegov.org/wp-content/uploads/2023/06/MinessotaStateFair082922-1-scaled-e1686668002495.jpg
END:VEVENT
END:VCALENDAR