BEGIN:VCALENDAR
VERSION:2.0
PRODID:-//Native Governance Center - ECPv6.15.17.1//NONSGML v1.0//EN
CALSCALE:GREGORIAN
METHOD:PUBLISH
X-ORIGINAL-URL:https://nativegov.org
X-WR-CALDESC:Events for Native Governance Center
REFRESH-INTERVAL;VALUE=DURATION:PT1H
X-Robots-Tag:noindex
X-PUBLISHED-TTL:PT1H
BEGIN:VTIMEZONE
TZID:America/Chicago
BEGIN:DAYLIGHT
TZOFFSETFROM:-0600
TZOFFSETTO:-0500
TZNAME:CDT
DTSTART:20230312T080000
END:DAYLIGHT
BEGIN:STANDARD
TZOFFSETFROM:-0500
TZOFFSETTO:-0600
TZNAME:CST
DTSTART:20231105T070000
END:STANDARD
BEGIN:DAYLIGHT
TZOFFSETFROM:-0600
TZOFFSETTO:-0500
TZNAME:CDT
DTSTART:20240310T080000
END:DAYLIGHT
BEGIN:STANDARD
TZOFFSETFROM:-0500
TZOFFSETTO:-0600
TZNAME:CST
DTSTART:20241103T070000
END:STANDARD
BEGIN:DAYLIGHT
TZOFFSETFROM:-0600
TZOFFSETTO:-0500
TZNAME:CDT
DTSTART:20250309T080000
END:DAYLIGHT
BEGIN:STANDARD
TZOFFSETFROM:-0500
TZOFFSETTO:-0600
TZNAME:CST
DTSTART:20251102T070000
END:STANDARD
END:VTIMEZONE
BEGIN:VEVENT
DTSTART;TZID=America/Chicago:20240903T120000
DTEND;TZID=America/Chicago:20240903T130000
DTSTAMP:20260420T044159
CREATED:20240828T195901Z
LAST-MODIFIED:20240828T200320Z
UID:10000226-1725364800-1725368400@nativegov.org
SUMMARY:Native Nation Rebuilders AMA Session
DESCRIPTION:Interested in learning more about the Native Nation Rebuilders program? Join the Leadership Development team for a 30-minute overview of the Rebuilders program. We welcome you to stay on for an open Q&A for the last 30 minutes. No registration required. \nJoin for any of the planned sessions below: \n  \n\n\n\nSept. 3\, 12-1 pm CST\nSept. 10\, 7-8 pm CST\n\nClick here to join a session! \n  \n\n\nFor more information\, contact: \nJessica Glidden\, Program Manager \njessica@nativegov.org \n  \n\nIsabella Griffin\, Program Coordinator \nIsabella@nativegov.org
URL:https://nativegov.org/event/native-nation-rebuilders-ama-session/
LOCATION:Zoom
ATTACH;FMTTYPE=image/png:https://nativegov.org/wp-content/uploads/2024/08/NNR-C14-Social-Media-Graphics-copy-2.png
END:VEVENT
BEGIN:VEVENT
DTSTART;TZID=America/Chicago:20240904T080000
DTEND;TZID=America/Chicago:20240905T170000
DTSTAMP:20260420T044159
CREATED:20240613T193228Z
LAST-MODIFIED:20240613T193228Z
UID:10000053-1725436800-1725555600@nativegov.org
SUMMARY:NGC at United Tribes Technical College Tribal Leaders Summit
DESCRIPTION:Native Governance Center will be at the United Tribes Technical College Tribal Leaders Summit. This event brings together tribal leaders\, policymakers\, and community members to discuss and develop strategies for effective governance and community building. Come check out our booth to learn more about our programs and join us to engage in meaningful dialogues\, workshops\, and networking opportunities.
URL:https://nativegov.org/event/ngc-at-united-tribes-technical-college-tribal-leaders-summit/
LOCATION:Bismarck Event Center\, 315 S 5th St\, Bismarck\, ND\, 58504\, United States
ATTACH;FMTTYPE=image/png:https://nativegov.org/wp-content/uploads/2024/06/UTTC-Logo.png
END:VEVENT
BEGIN:VEVENT
DTSTART;TZID=America/Chicago:20240906T190000
DTEND;TZID=America/Chicago:20240908T180000
DTSTAMP:20260420T044159
CREATED:20240613T193927Z
LAST-MODIFIED:20240613T194850Z
UID:10000054-1725649200-1725818400@nativegov.org
SUMMARY:NGC at United Tribes Technical College International Powwow
DESCRIPTION:Join Native Governance Center at the United Tribes Technical College International Powwow! We’ll have a booth with information on our programs and free resources for Indian Country. This event is open to all but tickets are required\, we hope to see you at this celebration!
URL:https://nativegov.org/event/ngc-at-united-tribes-technical-college-international-powwow/
LOCATION:United Tribes Veterans Arena\, 3315 University Drive\, Bismarck\, ND\, 58504\, United States
ATTACH;FMTTYPE=image/png:https://nativegov.org/wp-content/uploads/2024/06/UTTC-Powwow-2024.png
END:VEVENT
BEGIN:VEVENT
DTSTART;TZID=America/Chicago:20240910T190000
DTEND;TZID=America/Chicago:20240910T200000
DTSTAMP:20260420T044159
CREATED:20240828T200236Z
LAST-MODIFIED:20240828T200236Z
UID:10000227-1725994800-1725998400@nativegov.org
SUMMARY:Native Nation Rebuilders AMA Session
DESCRIPTION:Interested in learning more about the Native Nation Rebuilders program? Join the Leadership Development team for a 30-minute overview of the Rebuilders program. We welcome you to stay on for an open Q&A for the last 30 minutes. No registration required. \nJoin the planned session below: \n\nSept. 10\, 7-8 pm CST\n\nClick here to join a session! \n  \nFor more information\, contact: \nJessica Glidden\, Program Manager \njessica@nativegov.org \n  \nIsabella Griffin\, Program Coordinator \nIsabella@nativegov.org
URL:https://nativegov.org/event/native-nation-rebuilders-ama-session-2/
LOCATION:Zoom
ATTACH;FMTTYPE=image/png:https://nativegov.org/wp-content/uploads/2024/08/NNR-C14-Social-Media-Graphics-copy-2.png
END:VEVENT
END:VCALENDAR