BEGIN:VCALENDAR
VERSION:2.0
PRODID:-//Native Governance Center - ECPv6.15.17.1//NONSGML v1.0//EN
CALSCALE:GREGORIAN
METHOD:PUBLISH
X-WR-CALNAME:Native Governance Center
X-ORIGINAL-URL:https://nativegov.org
X-WR-CALDESC:Events for Native Governance Center
REFRESH-INTERVAL;VALUE=DURATION:PT1H
X-Robots-Tag:noindex
X-PUBLISHED-TTL:PT1H
BEGIN:VTIMEZONE
TZID:America/Chicago
BEGIN:DAYLIGHT
TZOFFSETFROM:-0600
TZOFFSETTO:-0500
TZNAME:CDT
DTSTART:20220313T080000
END:DAYLIGHT
BEGIN:STANDARD
TZOFFSETFROM:-0500
TZOFFSETTO:-0600
TZNAME:CST
DTSTART:20221106T070000
END:STANDARD
BEGIN:DAYLIGHT
TZOFFSETFROM:-0600
TZOFFSETTO:-0500
TZNAME:CDT
DTSTART:20230312T080000
END:DAYLIGHT
BEGIN:STANDARD
TZOFFSETFROM:-0500
TZOFFSETTO:-0600
TZNAME:CST
DTSTART:20231105T070000
END:STANDARD
BEGIN:DAYLIGHT
TZOFFSETFROM:-0600
TZOFFSETTO:-0500
TZNAME:CDT
DTSTART:20240310T080000
END:DAYLIGHT
BEGIN:STANDARD
TZOFFSETFROM:-0500
TZOFFSETTO:-0600
TZNAME:CST
DTSTART:20241103T070000
END:STANDARD
END:VTIMEZONE
BEGIN:VEVENT
DTSTART;TZID=America/Chicago:20230726T080000
DTEND;TZID=America/Chicago:20231002T170000
DTSTAMP:20260421T002411
CREATED:20230726T220849Z
LAST-MODIFIED:20231004T145033Z
UID:10000034-1690358400-1696266000@nativegov.org
SUMMARY:Become a Rebuilder!
DESCRIPTION:We’re excited to announce the opening of the application period for Cohort 13 of our Native Nation Rebuilders program. Join the nation rebuilding movement! Click the button below to read about requirements\, important dates\, and the application process. \n\nDeadline to apply is Monday\, October 2nd 5:00 PM Central Time.  \nBecome A Rebuilder
URL:https://nativegov.org/event/become-a-rebuilder/
ATTACH;FMTTYPE=image/jpeg:https://nativegov.org/wp-content/uploads/2023/07/C12-group-photo-1-scaled.jpg
END:VEVENT
BEGIN:VEVENT
DTSTART;VALUE=DATE:20231007
DTEND;VALUE=DATE:20231009
DTSTAMP:20260421T002411
CREATED:20230816T212205Z
LAST-MODIFIED:20230926T200400Z
UID:10000041-1696636800-1696809599@nativegov.org
SUMMARY:Indigenous People’s Weekend Basketball Expo
DESCRIPTION:Join us during the Indigenous People’s Weekend Basketball Expo in St. Paul\, MN! We’ll have a table set up during the event. See you there!
URL:https://nativegov.org/event/indigenous-peoples-weekend-basketball-expo/
LOCATION:Harding High School\, 1540 6th St E\, St. Paul\, MN\, 55106\, United States
ATTACH;FMTTYPE=image/jpeg:https://nativegov.org/wp-content/uploads/2023/08/2023-IPW-4-scaled.jpg
END:VEVENT
BEGIN:VEVENT
DTSTART;TZID=America/Chicago:20231007T130000
DTEND;TZID=America/Chicago:20231007T170000
DTSTAMP:20260421T002411
CREATED:20230906T163713Z
LAST-MODIFIED:20230906T163713Z
UID:10000043-1696683600-1696698000@nativegov.org
SUMMARY:NGC at Owamni Falling Water Festival
DESCRIPTION:Native Governance Center is tabling at the Owamni Falling Water Festival on Indigenous Peoples’ Day weekend. Stop by our table\, and check out the ~50 other Indigenous vendors and music. Indigenous food options will also be available. See you there!
URL:https://nativegov.org/event/owamni-falling-water-festival/
LOCATION:Mill Ruins Park\, Water Works and Father Hennepin Bluffs Park\, 102 Portland Ave S\, Minneapolis\, MN\, 55401\, United States
ATTACH;FMTTYPE=image/jpeg:https://nativegov.org/wp-content/uploads/2023/09/363389021_309713161431717_2107890031733045913_n.jpg
END:VEVENT
BEGIN:VEVENT
DTSTART;TZID=America/Chicago:20231026T120000
DTEND;TZID=America/Chicago:20231026T133000
DTSTAMP:20260421T002411
CREATED:20231016T155600Z
LAST-MODIFIED:20231016T164630Z
UID:10000044-1698321600-1698327000@nativegov.org
SUMMARY:Rebuilding Native Nations Lunch and Learn: A Taste of Rebuilding
DESCRIPTION:Are you a Native leader looking to create change in your community? Do you want to better understand how strong Tribal governance structures can benefit your nation? Join us to learn about Native nation rebuilding and how the rebuilding principles can benefit you in your current role\, your community\, and your nation. \nThis event is open to all enrolled citizens of Native nations sharing geography with the United States\, in addition to descendants of those nations. Register here to receive a Zoom link: https://tinyurl.com/bdzmdjxh
URL:https://nativegov.org/event/a-taste-of-rebuilding/
LOCATION:Zoom
ATTACH;FMTTYPE=image/jpeg:https://nativegov.org/wp-content/uploads/2023/10/JayCookePortraits-16-1-scaled.jpg
END:VEVENT
END:VCALENDAR