BEGIN:VCALENDAR
VERSION:2.0
PRODID:-//Native Governance Center - ECPv6.15.17.1//NONSGML v1.0//EN
CALSCALE:GREGORIAN
METHOD:PUBLISH
X-ORIGINAL-URL:https://nativegov.org
X-WR-CALDESC:Events for Native Governance Center
REFRESH-INTERVAL;VALUE=DURATION:PT1H
X-Robots-Tag:noindex
X-PUBLISHED-TTL:PT1H
BEGIN:VTIMEZONE
TZID:America/Chicago
BEGIN:DAYLIGHT
TZOFFSETFROM:-0600
TZOFFSETTO:-0500
TZNAME:CDT
DTSTART:20220313T080000
END:DAYLIGHT
BEGIN:STANDARD
TZOFFSETFROM:-0500
TZOFFSETTO:-0600
TZNAME:CST
DTSTART:20221106T070000
END:STANDARD
BEGIN:DAYLIGHT
TZOFFSETFROM:-0600
TZOFFSETTO:-0500
TZNAME:CDT
DTSTART:20230312T080000
END:DAYLIGHT
BEGIN:STANDARD
TZOFFSETFROM:-0500
TZOFFSETTO:-0600
TZNAME:CST
DTSTART:20231105T070000
END:STANDARD
BEGIN:DAYLIGHT
TZOFFSETFROM:-0600
TZOFFSETTO:-0500
TZNAME:CDT
DTSTART:20240310T080000
END:DAYLIGHT
BEGIN:STANDARD
TZOFFSETFROM:-0500
TZOFFSETTO:-0600
TZNAME:CST
DTSTART:20241103T070000
END:STANDARD
END:VTIMEZONE
BEGIN:VEVENT
DTSTART;TZID=America/Chicago:20230602T170000
DTEND;TZID=America/Chicago:20230602T200000
DTSTAMP:20260421T080407
CREATED:20230516T171114Z
LAST-MODIFIED:20230516T171114Z
UID:10000027-1685725200-1685736000@nativegov.org
SUMMARY:Patagonia St. Paul Run and Film Night
DESCRIPTION:Join us at Patagonia St. Paul’s Run and Film Night on June 2! The evening will begin with a short run/walk and snacks from Pow Wow Grounds. Two films featuring Indigenous athletes will be screened\, followed by Q&A with the directors and featured athletes: \n\nRun to be Visible\nKnow to Run: Yatika\n\nNative Governance Center will be tabling along with A Mile in my Shoes\, ReNew Earth Running\, and Rising Hearts. Stop by and say hello! \nFree registration is required on Patagonia St. Paul’s event page.
URL:https://nativegov.org/event/run-and-film-night/
LOCATION:Patagonia St. Paul\, 1648 Grand Ave\, St. Paul\, MN\, 55104\, United States
ATTACH;FMTTYPE=image/jpeg:https://nativegov.org/wp-content/uploads/2023/05/81dea1325a17fddfacc26b909066bfe9.Film-Graphic-photo-cred-Devin-Whetstone-.jpg
END:VEVENT
BEGIN:VEVENT
DTSTART;TZID=America/Chicago:20230605T150000
DTEND;TZID=America/Chicago:20230607T180000
DTSTAMP:20260421T080407
CREATED:20230516T174911Z
LAST-MODIFIED:20230516T174911Z
UID:10000029-1685977200-1686160800@nativegov.org
SUMMARY:NCAI Mid-Year Convention
DESCRIPTION:Join us at the 2023 NCAI Mid-Year Convention at Mystic Lake Center: we’ll be tabling in the marketplace. Come say hello!
URL:https://nativegov.org/event/ncai-mid-year-convention/
LOCATION:Mystic Lake Event Center\, 2400 Mystic Lake Blvd NW\, Prior Lake\, MN\, 55372\, United States
ATTACH;FMTTYPE=image/png:https://nativegov.org/wp-content/uploads/2023/05/Save_The_Date_Slider-Registration.png
END:VEVENT
BEGIN:VEVENT
DTSTART;TZID=America/Chicago:20230617T130000
DTEND;TZID=America/Chicago:20230617T160000
DTSTAMP:20260421T080407
CREATED:20230607T213542Z
LAST-MODIFIED:20230607T213542Z
UID:10000032-1687006800-1687017600@nativegov.org
SUMMARY:Niniijaanis Art Market
DESCRIPTION:Join us at the Niniijaanis Art Market at Flava Cafe: we’ll be tabling in the Native-made marketplace and sharing information on our next cohort of Native Nation Rebuilders. Applications open soon. Come say Boozhoo\, Háŋ\, Hello!
URL:https://nativegov.org/event/art-market/
LOCATION:Flava Cafe\, 623 University Ave W\, St. Paul\, MN\, 55104\, United States
ATTACH;FMTTYPE=image/jpeg:https://nativegov.org/wp-content/uploads/2023/06/Screenshot-2023-06-07-at-4.30.54-PM.jpeg
END:VEVENT
BEGIN:VEVENT
DTSTART;TZID=America/Chicago:20230621T120000
DTEND;TZID=America/Chicago:20230621T130000
DTSTAMP:20260421T080407
CREATED:20230516T180835Z
LAST-MODIFIED:20230516T181016Z
UID:10000030-1687348800-1687352400@nativegov.org
SUMMARY:Land Rush to Land Back: Legacies of Allotment and Indigenous Resistance
DESCRIPTION:Many Native nations control just a small percentage of their original land base. Rather than Tribal governments and individual Tribal citizens stewarding and carrying out their vision for the land\, we instead see big ag\, vacation home owners\, the United States Forest Service\, and others making decisions. How did this happen? \nThe United States Government stole more than 90 million acres of Indigenous land during the Allotment Era. In Land Rush to Land Back\, we’ll examine allotment’s history and modern-day implications for Native nations. We’ll also highlight ongoing Indigenous resistance and the strategies Native nations are using to fight back. \nEvent schedule \n\n12:00 PM: Welcome + event basics\n12:15 PM: Panel discussion\n12:45 PM: Q&A\n1:00 PM: Event concludes\n\nRegister to reserve your spot in the Zoom webinar today. The webinar will also be broacast on Facebook Live. This event will be closed captioned. \nEvent host and panelists:  \n\nHost: Dr. Twyla Baker (MHA Nation)\nPanelists:\n\nCris Stainbrook (Oglala Lakota)\nAdam Savariego (Upper Sioux Dakota)\nDarelynn Lehto (Prairie Island Dakota)\n\n\n\nSponsors: Anderson Realty\, APi Group\, Woodlands National Bank\, STAIGER | VITELLI and Associates LLC\, University of St. Thomas
URL:https://nativegov.org/event/land-rush-to-land-back/
LOCATION:Zoom
ATTACH;FMTTYPE=image/png:https://nativegov.org/wp-content/uploads/2023/05/Untitled-design-1.png
END:VEVENT
END:VCALENDAR