BEGIN:VCALENDAR
VERSION:2.0
PRODID:-//Native Governance Center - ECPv6.15.17.1//NONSGML v1.0//EN
CALSCALE:GREGORIAN
METHOD:PUBLISH
X-ORIGINAL-URL:https://nativegov.org
X-WR-CALDESC:Events for Native Governance Center
REFRESH-INTERVAL;VALUE=DURATION:PT1H
X-Robots-Tag:noindex
X-PUBLISHED-TTL:PT1H
BEGIN:VTIMEZONE
TZID:America/Chicago
BEGIN:DAYLIGHT
TZOFFSETFROM:-0600
TZOFFSETTO:-0500
TZNAME:CDT
DTSTART:20240310T080000
END:DAYLIGHT
BEGIN:STANDARD
TZOFFSETFROM:-0500
TZOFFSETTO:-0600
TZNAME:CST
DTSTART:20241103T070000
END:STANDARD
BEGIN:DAYLIGHT
TZOFFSETFROM:-0600
TZOFFSETTO:-0500
TZNAME:CDT
DTSTART:20250309T080000
END:DAYLIGHT
BEGIN:STANDARD
TZOFFSETFROM:-0500
TZOFFSETTO:-0600
TZNAME:CST
DTSTART:20251102T070000
END:STANDARD
BEGIN:DAYLIGHT
TZOFFSETFROM:-0600
TZOFFSETTO:-0500
TZNAME:CDT
DTSTART:20260308T080000
END:DAYLIGHT
BEGIN:STANDARD
TZOFFSETFROM:-0500
TZOFFSETTO:-0600
TZNAME:CST
DTSTART:20261101T070000
END:STANDARD
END:VTIMEZONE
BEGIN:VEVENT
DTSTART;TZID=America/Chicago:20250717T120000
DTEND;TZID=America/Chicago:20250717T133000
DTSTAMP:20260419T123931
CREATED:20250703T154019Z
LAST-MODIFIED:20250710T182737Z
UID:10000240-1752753600-1752759000@nativegov.org
SUMMARY:Better Together: Partnerships in Education Across NDN Country
DESCRIPTION:This is one of a 3-part event series exploring positive partnerships across NDN Country by sharing stories of collaboration with Native nations\, urban Native communities\, Native-led organizations\, and more. \nAs a follow-up to our 2024 event Partnering with Native Nations in a Good Way and its corresponding guide\, we invite folks to learn more and expand upon this important topic; we will be hosting sessions focused on health\, higher education\, and government-to-government relations. \nAttendees will learn best practices from a variety of Indigenous leaders and receive tips for taking action. \nBetter Together: Partnerships in Education Across NDN Country\nIn the first session of our event series focused on positive partnerships across Native nations and communities\, we’ll explore the relationship between higher education and the Native students\, staff\, and communities they serve. \nMany campuses offer land acknowledgement statements and some offer Native tuition benefits\, but meaningful partnership goes beyond statements and minimal support. Native students and staff are often the ones pushing for and leading change at their campuses. While Native voices should be included\, how can we shift this responsibility in higher education to campus leadership? \nJoin us for a conversation with Native changemakers who have experience working as advocates in higher education. We’ll examine how colleges and universities can center Indigeneity without overburdening their Native students and staff\, shift away from optical allyship\, and avoid tokenization so they can build authentic relationships with Native nations and communities. \nThis session will offer actionable ideas for campus leaders\, staff\, and faculty committed to moving from performative to transformative partnerships. \nRegister today!
URL:https://nativegov.org/event/better-together-education-partnerships/
ATTACH;FMTTYPE=image/jpeg:https://nativegov.org/wp-content/uploads/2023/08/Holly_Plants_R2-dragonflys.jpg
LOCATION:https://nativegov.org/event/better-together-education-partnerships/
END:VEVENT
END:VCALENDAR