BEGIN:VCALENDAR
VERSION:2.0
PRODID:-//Native Governance Center - ECPv6.15.17.1//NONSGML v1.0//EN
CALSCALE:GREGORIAN
METHOD:PUBLISH
X-ORIGINAL-URL:https://nativegov.org
X-WR-CALDESC:Events for Native Governance Center
REFRESH-INTERVAL;VALUE=DURATION:PT1H
X-Robots-Tag:noindex
X-PUBLISHED-TTL:PT1H
BEGIN:VTIMEZONE
TZID:America/Chicago
BEGIN:DAYLIGHT
TZOFFSETFROM:-0600
TZOFFSETTO:-0500
TZNAME:CDT
DTSTART:20240310T080000
END:DAYLIGHT
BEGIN:STANDARD
TZOFFSETFROM:-0500
TZOFFSETTO:-0600
TZNAME:CST
DTSTART:20241103T070000
END:STANDARD
BEGIN:DAYLIGHT
TZOFFSETFROM:-0600
TZOFFSETTO:-0500
TZNAME:CDT
DTSTART:20250309T080000
END:DAYLIGHT
BEGIN:STANDARD
TZOFFSETFROM:-0500
TZOFFSETTO:-0600
TZNAME:CST
DTSTART:20251102T070000
END:STANDARD
BEGIN:DAYLIGHT
TZOFFSETFROM:-0600
TZOFFSETTO:-0500
TZNAME:CDT
DTSTART:20260308T080000
END:DAYLIGHT
BEGIN:STANDARD
TZOFFSETFROM:-0500
TZOFFSETTO:-0600
TZNAME:CST
DTSTART:20261101T070000
END:STANDARD
END:VTIMEZONE
BEGIN:VEVENT
DTSTART;TZID=America/Chicago:20250605T120000
DTEND;TZID=America/Chicago:20250605T150000
DTSTAMP:20260419T142338
CREATED:20250327T142556Z
LAST-MODIFIED:20250327T142556Z
UID:10000232-1749124800-1749135600@nativegov.org
SUMMARY:Tribal Finance Essentials
DESCRIPTION:This crash course in Tribal Finance Essentials will cover five key financial governance areas that newly elected leaders need to know. These key financial governance areas will help you to make more informed decisions and communicate those decisions with interested parties\, such as Tribal membership and financial institutions. Register today! \nEvent Schedule \n12:00 PM: Welcome + Agenda \n12:10 PM: Kinship Building Activity \n12:30 PM: Discussion on financial reporting\, budgeting/budget process\, policies and procedures\, external audit/audit process and communication. \n2:35 PM: Q&A Discussion \n3:00 PM: Event Concludes \nTwo 10-min breaks are also included. \n 
URL:https://nativegov.org/event/tribal-finance-essentials/
ATTACH;FMTTYPE=image/png:https://nativegov.org/wp-content/uploads/2025/03/TF-Essentials-Post-Card-1.png
END:VEVENT
END:VCALENDAR