BEGIN:VCALENDAR
VERSION:2.0
PRODID:-//Native Governance Center - ECPv6.15.17.1//NONSGML v1.0//EN
CALSCALE:GREGORIAN
METHOD:PUBLISH
X-ORIGINAL-URL:https://nativegov.org
X-WR-CALDESC:Events for Native Governance Center
REFRESH-INTERVAL;VALUE=DURATION:PT1H
X-Robots-Tag:noindex
X-PUBLISHED-TTL:PT1H
BEGIN:VTIMEZONE
TZID:America/Chicago
BEGIN:DAYLIGHT
TZOFFSETFROM:-0600
TZOFFSETTO:-0500
TZNAME:CDT
DTSTART:20240310T080000
END:DAYLIGHT
BEGIN:STANDARD
TZOFFSETFROM:-0500
TZOFFSETTO:-0600
TZNAME:CST
DTSTART:20241103T070000
END:STANDARD
BEGIN:DAYLIGHT
TZOFFSETFROM:-0600
TZOFFSETTO:-0500
TZNAME:CDT
DTSTART:20250309T080000
END:DAYLIGHT
BEGIN:STANDARD
TZOFFSETFROM:-0500
TZOFFSETTO:-0600
TZNAME:CST
DTSTART:20251102T070000
END:STANDARD
BEGIN:DAYLIGHT
TZOFFSETFROM:-0600
TZOFFSETTO:-0500
TZNAME:CDT
DTSTART:20260308T080000
END:DAYLIGHT
BEGIN:STANDARD
TZOFFSETFROM:-0500
TZOFFSETTO:-0600
TZNAME:CST
DTSTART:20261101T070000
END:STANDARD
END:VTIMEZONE
BEGIN:VEVENT
DTSTART;TZID=America/Chicago:20250514T140000
DTEND;TZID=America/Chicago:20250514T150000
DTSTAMP:20260419T160805
CREATED:20250404T195621Z
LAST-MODIFIED:20250404T195621Z
UID:10000235-1747231200-1747234800@nativegov.org
SUMMARY:NGC at Marketing Matters Conference
DESCRIPTION:Native Governance Center staff will be attending the Marketing Matters Conference in Eagan\, MN on Wednesday\, May 14! While there\, we will be facilitating a session on the topic Building Bridges – How to Talk About Native Nations in Your Co-op from 2:00 – 3:00 PM. 
URL:https://nativegov.org/event/ngc-at-marketing-matters-conference/
ATTACH;FMTTYPE=image/png:https://nativegov.org/wp-content/uploads/2025/04/2.png
END:VEVENT
END:VCALENDAR