BEGIN:VCALENDAR
VERSION:2.0
PRODID:-//Native Governance Center - ECPv6.15.17.1//NONSGML v1.0//EN
CALSCALE:GREGORIAN
METHOD:PUBLISH
X-ORIGINAL-URL:https://nativegov.org
X-WR-CALDESC:Events for Native Governance Center
REFRESH-INTERVAL;VALUE=DURATION:PT1H
X-Robots-Tag:noindex
X-PUBLISHED-TTL:PT1H
BEGIN:VTIMEZONE
TZID:America/Chicago
BEGIN:DAYLIGHT
TZOFFSETFROM:-0600
TZOFFSETTO:-0500
TZNAME:CDT
DTSTART:20240310T080000
END:DAYLIGHT
BEGIN:STANDARD
TZOFFSETFROM:-0500
TZOFFSETTO:-0600
TZNAME:CST
DTSTART:20241103T070000
END:STANDARD
BEGIN:DAYLIGHT
TZOFFSETFROM:-0600
TZOFFSETTO:-0500
TZNAME:CDT
DTSTART:20250309T080000
END:DAYLIGHT
BEGIN:STANDARD
TZOFFSETFROM:-0500
TZOFFSETTO:-0600
TZNAME:CST
DTSTART:20251102T070000
END:STANDARD
BEGIN:DAYLIGHT
TZOFFSETFROM:-0600
TZOFFSETTO:-0500
TZNAME:CDT
DTSTART:20260308T080000
END:DAYLIGHT
BEGIN:STANDARD
TZOFFSETFROM:-0500
TZOFFSETTO:-0600
TZNAME:CST
DTSTART:20261101T070000
END:STANDARD
END:VTIMEZONE
BEGIN:VEVENT
DTSTART;VALUE=DATE:20250407
DTEND;VALUE=DATE:20250409
DTSTAMP:20260419T174647
CREATED:20250404T174132Z
LAST-MODIFIED:20250404T174156Z
UID:10000234-1743984000-1744156799@nativegov.org
SUMMARY:NGC at Green Lands Blue Waters Conference
DESCRIPTION:Native Governance Center staff will be facilitating two sessions at the Green Lands Blue Waters Conference! Join us on Monday\, April 7\, from 2:45 – 4:30 PM on the topic Developing Research Partnerships with Indigenous Partners and Native Nations. We will also lead a keynote presentation on Tuesday\, April 8\, from 1:15 – 2:30 PM.
URL:https://nativegov.org/event/ngc-at-green-lands-blue-waters-conference/
LOCATION:Pyle Center\, University of Wisconsin-Madison\, 702 Langdon St.\, Madison\, WI\, 53706
ATTACH;FMTTYPE=image/png:https://nativegov.org/wp-content/uploads/2025/04/1.png
END:VEVENT
END:VCALENDAR