BEGIN:VCALENDAR
VERSION:2.0
PRODID:-//Native Governance Center - ECPv6.15.17.1//NONSGML v1.0//EN
CALSCALE:GREGORIAN
METHOD:PUBLISH
X-ORIGINAL-URL:https://nativegov.org
X-WR-CALDESC:Events for Native Governance Center
REFRESH-INTERVAL;VALUE=DURATION:PT1H
X-Robots-Tag:noindex
X-PUBLISHED-TTL:PT1H
BEGIN:VTIMEZONE
TZID:America/Chicago
BEGIN:DAYLIGHT
TZOFFSETFROM:-0600
TZOFFSETTO:-0500
TZNAME:CDT
DTSTART:20240310T080000
END:DAYLIGHT
BEGIN:STANDARD
TZOFFSETFROM:-0500
TZOFFSETTO:-0600
TZNAME:CST
DTSTART:20241103T070000
END:STANDARD
BEGIN:DAYLIGHT
TZOFFSETFROM:-0600
TZOFFSETTO:-0500
TZNAME:CDT
DTSTART:20250309T080000
END:DAYLIGHT
BEGIN:STANDARD
TZOFFSETFROM:-0500
TZOFFSETTO:-0600
TZNAME:CST
DTSTART:20251102T070000
END:STANDARD
BEGIN:DAYLIGHT
TZOFFSETFROM:-0600
TZOFFSETTO:-0500
TZNAME:CDT
DTSTART:20260308T080000
END:DAYLIGHT
BEGIN:STANDARD
TZOFFSETFROM:-0500
TZOFFSETTO:-0600
TZNAME:CST
DTSTART:20261101T070000
END:STANDARD
END:VTIMEZONE
BEGIN:VEVENT
DTSTART;VALUE=DATE:20250319
DTEND;VALUE=DATE:20250322
DTSTAMP:20260419T192644
CREATED:20250226T165017Z
LAST-MODIFIED:20250226T170202Z
UID:10000229-1742342400-1742601599@nativegov.org
SUMMARY:NGC at Minnesota Indian Education Association Annual Conference
DESCRIPTION:Native Governance Center will be presenting on “Honoring and Understanding Sovereignty in Education” at the Minnesota Indian Education Association’s Annual Conference. We will also have a booth there throughout the week. The conference will be held at the Mystic Lake Casino in Prior Lake\, MN March 19th – 21st\, 2025. 
URL:https://nativegov.org/event/ngc-at-minnesota-indian-education-association-annual-conference/
LOCATION:Mystic Lake Casino\, 2400 Mystic Lake Blvd NW\, Prior Lake\, MN\, 55372\, United States
ATTACH;FMTTYPE=image/png:https://nativegov.org/wp-content/uploads/2025/02/MIEA.png
END:VEVENT
END:VCALENDAR