BEGIN:VCALENDAR
VERSION:2.0
PRODID:-//Native Governance Center - ECPv6.15.17.1//NONSGML v1.0//EN
CALSCALE:GREGORIAN
METHOD:PUBLISH
X-ORIGINAL-URL:https://nativegov.org
X-WR-CALDESC:Events for Native Governance Center
REFRESH-INTERVAL;VALUE=DURATION:PT1H
X-Robots-Tag:noindex
X-PUBLISHED-TTL:PT1H
BEGIN:VTIMEZONE
TZID:America/Chicago
BEGIN:DAYLIGHT
TZOFFSETFROM:-0600
TZOFFSETTO:-0500
TZNAME:CDT
DTSTART:20240310T080000
END:DAYLIGHT
BEGIN:STANDARD
TZOFFSETFROM:-0500
TZOFFSETTO:-0600
TZNAME:CST
DTSTART:20241103T070000
END:STANDARD
BEGIN:DAYLIGHT
TZOFFSETFROM:-0600
TZOFFSETTO:-0500
TZNAME:CDT
DTSTART:20250309T080000
END:DAYLIGHT
BEGIN:STANDARD
TZOFFSETFROM:-0500
TZOFFSETTO:-0600
TZNAME:CST
DTSTART:20251102T070000
END:STANDARD
BEGIN:DAYLIGHT
TZOFFSETFROM:-0600
TZOFFSETTO:-0500
TZNAME:CDT
DTSTART:20260308T080000
END:DAYLIGHT
BEGIN:STANDARD
TZOFFSETFROM:-0500
TZOFFSETTO:-0600
TZNAME:CST
DTSTART:20261101T070000
END:STANDARD
END:VTIMEZONE
BEGIN:VEVENT
DTSTART;VALUE=DATE:20250310
DTEND;VALUE=DATE:20250314
DTSTAMP:20260419T192811
CREATED:20250226T165943Z
LAST-MODIFIED:20250226T190040Z
UID:10000230-1741564800-1741910399@nativegov.org
SUMMARY:NGC at RES 2025
DESCRIPTION:Native Governance Center will be attending the Reservation Economic Summit (RES) from March 10-13\, 2025\, in Las Vegas. We will be presenting on “Strengthening Financial Governance” and hosting a booth throughout the event.
URL:https://nativegov.org/event/ngc-at-res-2025/
LOCATION:Caesars Palace\, 3570 S Las Vegas Blvd\, Las Vegas\, NV\, 89109\, United States
ATTACH;FMTTYPE=image/png:https://nativegov.org/wp-content/uploads/2025/02/RES-2025.png
END:VEVENT
END:VCALENDAR