BEGIN:VCALENDAR
VERSION:2.0
PRODID:-//Native Governance Center - ECPv6.15.17.1//NONSGML v1.0//EN
CALSCALE:GREGORIAN
METHOD:PUBLISH
X-WR-CALNAME:Native Governance Center
X-ORIGINAL-URL:https://nativegov.org
X-WR-CALDESC:Events for Native Governance Center
REFRESH-INTERVAL;VALUE=DURATION:PT1H
X-Robots-Tag:noindex
X-PUBLISHED-TTL:PT1H
BEGIN:VTIMEZONE
TZID:America/Chicago
BEGIN:DAYLIGHT
TZOFFSETFROM:-0600
TZOFFSETTO:-0500
TZNAME:CDT
DTSTART:20230312T080000
END:DAYLIGHT
BEGIN:STANDARD
TZOFFSETFROM:-0500
TZOFFSETTO:-0600
TZNAME:CST
DTSTART:20231105T070000
END:STANDARD
BEGIN:DAYLIGHT
TZOFFSETFROM:-0600
TZOFFSETTO:-0500
TZNAME:CDT
DTSTART:20240310T080000
END:DAYLIGHT
BEGIN:STANDARD
TZOFFSETFROM:-0500
TZOFFSETTO:-0600
TZNAME:CST
DTSTART:20241103T070000
END:STANDARD
BEGIN:DAYLIGHT
TZOFFSETFROM:-0600
TZOFFSETTO:-0500
TZNAME:CDT
DTSTART:20250309T080000
END:DAYLIGHT
BEGIN:STANDARD
TZOFFSETFROM:-0500
TZOFFSETTO:-0600
TZNAME:CST
DTSTART:20251102T070000
END:STANDARD
END:VTIMEZONE
BEGIN:VEVENT
DTSTART;TZID=America/Chicago:20240906T190000
DTEND;TZID=America/Chicago:20240908T180000
DTSTAMP:20260420T061623
CREATED:20240613T193927Z
LAST-MODIFIED:20240613T194850Z
UID:10000054-1725649200-1725818400@nativegov.org
SUMMARY:NGC at United Tribes Technical College International Powwow
DESCRIPTION:Join Native Governance Center at the United Tribes Technical College International Powwow! We’ll have a booth with information on our programs and free resources for Indian Country. This event is open to all but tickets are required\, we hope to see you at this celebration!
URL:https://nativegov.org/event/ngc-at-united-tribes-technical-college-international-powwow/
LOCATION:United Tribes Veterans Arena\, 3315 University Drive\, Bismarck\, ND\, 58504\, United States
ATTACH;FMTTYPE=image/png:https://nativegov.org/wp-content/uploads/2024/06/UTTC-Powwow-2024.png
END:VEVENT
END:VCALENDAR