BEGIN:VCALENDAR
VERSION:2.0
PRODID:-//Native Governance Center - ECPv6.15.17.1//NONSGML v1.0//EN
CALSCALE:GREGORIAN
METHOD:PUBLISH
X-ORIGINAL-URL:https://nativegov.org
X-WR-CALDESC:Events for Native Governance Center
REFRESH-INTERVAL;VALUE=DURATION:PT1H
X-Robots-Tag:noindex
X-PUBLISHED-TTL:PT1H
BEGIN:VTIMEZONE
TZID:America/Chicago
BEGIN:DAYLIGHT
TZOFFSETFROM:-0600
TZOFFSETTO:-0500
TZNAME:CDT
DTSTART:20230312T080000
END:DAYLIGHT
BEGIN:STANDARD
TZOFFSETFROM:-0500
TZOFFSETTO:-0600
TZNAME:CST
DTSTART:20231105T070000
END:STANDARD
BEGIN:DAYLIGHT
TZOFFSETFROM:-0600
TZOFFSETTO:-0500
TZNAME:CDT
DTSTART:20240310T080000
END:DAYLIGHT
BEGIN:STANDARD
TZOFFSETFROM:-0500
TZOFFSETTO:-0600
TZNAME:CST
DTSTART:20241103T070000
END:STANDARD
BEGIN:DAYLIGHT
TZOFFSETFROM:-0600
TZOFFSETTO:-0500
TZNAME:CDT
DTSTART:20250309T080000
END:DAYLIGHT
BEGIN:STANDARD
TZOFFSETFROM:-0500
TZOFFSETTO:-0600
TZNAME:CST
DTSTART:20251102T070000
END:STANDARD
END:VTIMEZONE
BEGIN:VEVENT
DTSTART;TZID=America/Chicago:20240813T120000
DTEND;TZID=America/Chicago:20240813T130000
DTSTAMP:20260420T080518
CREATED:20240808T145345Z
LAST-MODIFIED:20240808T151544Z
UID:10000056-1723550400-1723554000@nativegov.org
SUMMARY:Understanding and Using Treaty Rights Webinar Part 1
DESCRIPTION:Are you interested in better understanding what treaty rights are and how they are used? Or a tribal citizen curious about your treaty rights?  \nJoin us for the two-part Understanding and Using Treaty Rights event to learn about the present state of treaties with the United States. Attendees will come away with an understanding of how Native nations and citizens are using their treaty rights and how they can support sovereignty through taking action that honors treaties. \nAugust 13th Event Speaker: \n\nRobert Miller (Eastern Shawnee Tribe)\, Professor of Law at Arizona State University’s Sandra Day O’Connor College of Law\n\nRegister for the webinars using the links below. \nAug. 13: https://zurl.co/tGZf \nAug. 20: https://zurl.co/gaIv
URL:https://nativegov.org/event/understanding-and-using-treaty-rights-webinar/
LOCATION:Zoom
ATTACH;FMTTYPE=image/png:https://nativegov.org/wp-content/uploads/2024/08/CE-Event-2.png
END:VEVENT
BEGIN:VEVENT
DTSTART;TZID=America/Chicago:20240813T190000
DTEND;TZID=America/Chicago:20240813T200000
DTSTAMP:20260420T080518
CREATED:20240808T164707Z
LAST-MODIFIED:20240808T190315Z
UID:10000058-1723575600-1723579200@nativegov.org
SUMMARY:Native Nation Rebuilders AMA Sessions
DESCRIPTION:Interested in learning more about the Native Nation Rebuilders program? Join the Leadership Development team for a 30-minute overview of the Rebuilders program. We welcome you to stay on for an open Q&A for the last 30 minutes. No registration required. \nJoin for any of the planned sessions below: \n  \n\n\n\nAug. 13\, 7-8 pm CST\nAug. 20\, 1-2 pm CST\nAug. 27\, 6-7 pm CST\nSept. 3\, 12-1 pm CST\nSept. 10\, 7-8 pm CST\n\nClick here to join a session! \n  \n\n\nFor more information\, contact: \nJessica Glidden\, Program Manager \njessica@nativegov.org \n  \n\nIsabella Griffin\, Program Coordinator \nIsabella@nativegov.org
URL:https://nativegov.org/event/native-nation-rebuilders-ama-sessions/
LOCATION:Zoom
ATTACH;FMTTYPE=image/png:https://nativegov.org/wp-content/uploads/2024/08/NNR-C14-Social-Media-Graphics-copy-2.png
END:VEVENT
END:VCALENDAR