BEGIN:VCALENDAR
VERSION:2.0
PRODID:-//Native Governance Center - ECPv6.15.17.1//NONSGML v1.0//EN
CALSCALE:GREGORIAN
METHOD:PUBLISH
X-WR-CALNAME:Native Governance Center
X-ORIGINAL-URL:https://nativegov.org
X-WR-CALDESC:Events for Native Governance Center
REFRESH-INTERVAL;VALUE=DURATION:PT1H
X-Robots-Tag:noindex
X-PUBLISHED-TTL:PT1H
BEGIN:VTIMEZONE
TZID:America/Chicago
BEGIN:DAYLIGHT
TZOFFSETFROM:-0600
TZOFFSETTO:-0500
TZNAME:CDT
DTSTART:20230312T080000
END:DAYLIGHT
BEGIN:STANDARD
TZOFFSETFROM:-0500
TZOFFSETTO:-0600
TZNAME:CST
DTSTART:20231105T070000
END:STANDARD
BEGIN:DAYLIGHT
TZOFFSETFROM:-0600
TZOFFSETTO:-0500
TZNAME:CDT
DTSTART:20240310T080000
END:DAYLIGHT
BEGIN:STANDARD
TZOFFSETFROM:-0500
TZOFFSETTO:-0600
TZNAME:CST
DTSTART:20241103T070000
END:STANDARD
BEGIN:DAYLIGHT
TZOFFSETFROM:-0600
TZOFFSETTO:-0500
TZNAME:CDT
DTSTART:20250309T080000
END:DAYLIGHT
BEGIN:STANDARD
TZOFFSETFROM:-0500
TZOFFSETTO:-0600
TZNAME:CST
DTSTART:20251102T070000
END:STANDARD
END:VTIMEZONE
BEGIN:VEVENT
DTSTART;VALUE=DATE:20240311
DTEND;VALUE=DATE:20240315
DTSTAMP:20260420T170646
CREATED:20240208T185744Z
LAST-MODIFIED:20240208T190225Z
UID:10000050-1710115200-1710460799@nativegov.org
SUMMARY:RES 2024: Find us at the Reservation Economic Summit
DESCRIPTION:Our team is attending the 2024 Reservation Economic Summit (RES) from March 11-14\, 2024. The 2024 Summit will take place in Las Vegas\, NV at Caesars Palace. \nWe’ll be presenting and exhibiting at RES\, so you’ll have multiple opportunities to connect with us: \n\nJoin us for our session presentation\, “Rebuilding Tribal Finance: An Innovative Approach to Strengthening Tribal Finance Leadership & Capacity\,” on Tuesday\, March 12 from 2:00-2:50 PM. Danielle Gangelhoff and Michaela Madrid from NGC’s Tribal Finance team will be presenting.\nFind our booth at the RES Trade Show: We’ll share information about our Tribal Finance resources\, in addition to our full set of program offerings.\n\nWe hope to see you at RES!
URL:https://nativegov.org/event/res-2024/
LOCATION:Caesars Palace\, 3570 S Las Vegas Blvd\, Las Vegas\, NV\, 89109\, United States
ATTACH;FMTTYPE=image/jpeg:https://nativegov.org/wp-content/uploads/2024/02/RES-2024.jpg
END:VEVENT
END:VCALENDAR