BEGIN:VCALENDAR
VERSION:2.0
PRODID:-//Native Governance Center - ECPv6.15.17.1//NONSGML v1.0//EN
CALSCALE:GREGORIAN
METHOD:PUBLISH
X-WR-CALNAME:Native Governance Center
X-ORIGINAL-URL:https://nativegov.org
X-WR-CALDESC:Events for Native Governance Center
REFRESH-INTERVAL;VALUE=DURATION:PT1H
X-Robots-Tag:noindex
X-PUBLISHED-TTL:PT1H
BEGIN:VTIMEZONE
TZID:America/Chicago
BEGIN:DAYLIGHT
TZOFFSETFROM:-0600
TZOFFSETTO:-0500
TZNAME:CDT
DTSTART:20220313T080000
END:DAYLIGHT
BEGIN:STANDARD
TZOFFSETFROM:-0500
TZOFFSETTO:-0600
TZNAME:CST
DTSTART:20221106T070000
END:STANDARD
BEGIN:DAYLIGHT
TZOFFSETFROM:-0600
TZOFFSETTO:-0500
TZNAME:CDT
DTSTART:20230312T080000
END:DAYLIGHT
BEGIN:STANDARD
TZOFFSETFROM:-0500
TZOFFSETTO:-0600
TZNAME:CST
DTSTART:20231105T070000
END:STANDARD
BEGIN:DAYLIGHT
TZOFFSETFROM:-0600
TZOFFSETTO:-0500
TZNAME:CDT
DTSTART:20240310T080000
END:DAYLIGHT
BEGIN:STANDARD
TZOFFSETFROM:-0500
TZOFFSETTO:-0600
TZNAME:CST
DTSTART:20241103T070000
END:STANDARD
END:VTIMEZONE
BEGIN:VEVENT
DTSTART;TZID=America/Chicago:20230726T080000
DTEND;TZID=America/Chicago:20231002T170000
DTSTAMP:20260421T042726
CREATED:20230726T220849Z
LAST-MODIFIED:20231004T145033Z
UID:10000034-1690358400-1696266000@nativegov.org
SUMMARY:Become a Rebuilder!
DESCRIPTION:We’re excited to announce the opening of the application period for Cohort 13 of our Native Nation Rebuilders program. Join the nation rebuilding movement! Click the button below to read about requirements\, important dates\, and the application process. \n\nDeadline to apply is Monday\, October 2nd 5:00 PM Central Time.  \nBecome A Rebuilder
URL:https://nativegov.org/event/become-a-rebuilder/
ATTACH;FMTTYPE=image/jpeg:https://nativegov.org/wp-content/uploads/2023/07/C12-group-photo-1-scaled.jpg
END:VEVENT
BEGIN:VEVENT
DTSTART;TZID=America/Chicago:20230829T180000
DTEND;TZID=America/Chicago:20230829T190000
DTSTAMP:20260421T042726
CREATED:20230816T195907Z
LAST-MODIFIED:20230816T195907Z
UID:10000038-1693332000-1693335600@nativegov.org
SUMMARY:Rebuilders C13 Ask Us Anything Hours
DESCRIPTION:Do you have questions for our team about applying for Rebuilders Cohort 13? Are you considering filling out an application but don’t know if becoming a Rebuilder is right for you? \nThis year\, we’re hosting new “ask us anything” drop-in Zoom sessions! The sessions are informal\, fun opportunities to connect with our program staff to learn more. To get the link to join\, message us on social media (@nativegov) us or email rebuilders@nativegov.org.
URL:https://nativegov.org/event/ask-us-anything-hours/2023-08-29/
LOCATION:Zoom
ATTACH;FMTTYPE=image/png:https://nativegov.org/wp-content/uploads/2023/08/AUA-Hours-IG.png
END:VEVENT
END:VCALENDAR