BEGIN:VCALENDAR
VERSION:2.0
PRODID:-//Native Governance Center - ECPv6.15.17.1//NONSGML v1.0//EN
CALSCALE:GREGORIAN
METHOD:PUBLISH
X-WR-CALNAME:Native Governance Center
X-ORIGINAL-URL:https://nativegov.org
X-WR-CALDESC:Events for Native Governance Center
REFRESH-INTERVAL;VALUE=DURATION:PT1H
X-Robots-Tag:noindex
X-PUBLISHED-TTL:PT1H
BEGIN:VTIMEZONE
TZID:America/Chicago
BEGIN:DAYLIGHT
TZOFFSETFROM:-0600
TZOFFSETTO:-0500
TZNAME:CDT
DTSTART:20220313T080000
END:DAYLIGHT
BEGIN:STANDARD
TZOFFSETFROM:-0500
TZOFFSETTO:-0600
TZNAME:CST
DTSTART:20221106T070000
END:STANDARD
BEGIN:DAYLIGHT
TZOFFSETFROM:-0600
TZOFFSETTO:-0500
TZNAME:CDT
DTSTART:20230312T080000
END:DAYLIGHT
BEGIN:STANDARD
TZOFFSETFROM:-0500
TZOFFSETTO:-0600
TZNAME:CST
DTSTART:20231105T070000
END:STANDARD
BEGIN:DAYLIGHT
TZOFFSETFROM:-0600
TZOFFSETTO:-0500
TZNAME:CDT
DTSTART:20240310T080000
END:DAYLIGHT
BEGIN:STANDARD
TZOFFSETFROM:-0500
TZOFFSETTO:-0600
TZNAME:CST
DTSTART:20241103T070000
END:STANDARD
END:VTIMEZONE
BEGIN:VEVENT
DTSTART;TZID=America/Chicago:20230420T100000
DTEND;TZID=America/Chicago:20230420T114500
DTSTAMP:20260421T131324
CREATED:20230320T212306Z
LAST-MODIFIED:20230405T185025Z
UID:10000024-1681984800-1681991100@nativegov.org
SUMMARY:NGC at MIEA
DESCRIPTION:Native Governance Center staff are presenting on “How to Talk about Native Nations” at the 2023 MIEA Conference at Mystic Lake Event Center. We’ll also be tabling to share information about our programs. Are you attending MIEA? We’d love to see you at our table\, our presentation\, or both!
URL:https://nativegov.org/event/ngc-at-miea/
LOCATION:Mystic Lake Event Center\, 2400 Mystic Lake Blvd NW\, Prior Lake\, MN\, 55372\, United States
ATTACH;FMTTYPE=image/jpeg:https://nativegov.org/wp-content/uploads/2023/03/steven-brown-L97CMXG5iiM-unsplash-scaled.jpg
END:VEVENT
END:VCALENDAR