BEGIN:VCALENDAR
VERSION:2.0
PRODID:-//Native Governance Center - ECPv6.15.17.1//NONSGML v1.0//EN
CALSCALE:GREGORIAN
METHOD:PUBLISH
X-ORIGINAL-URL:https://nativegov.org
X-WR-CALDESC:Events for Native Governance Center
REFRESH-INTERVAL;VALUE=DURATION:PT1H
X-Robots-Tag:noindex
X-PUBLISHED-TTL:PT1H
BEGIN:VTIMEZONE
TZID:America/Chicago
BEGIN:DAYLIGHT
TZOFFSETFROM:-0600
TZOFFSETTO:-0500
TZNAME:CDT
DTSTART:20220313T080000
END:DAYLIGHT
BEGIN:STANDARD
TZOFFSETFROM:-0500
TZOFFSETTO:-0600
TZNAME:CST
DTSTART:20221106T070000
END:STANDARD
BEGIN:DAYLIGHT
TZOFFSETFROM:-0600
TZOFFSETTO:-0500
TZNAME:CDT
DTSTART:20230312T080000
END:DAYLIGHT
BEGIN:STANDARD
TZOFFSETFROM:-0500
TZOFFSETTO:-0600
TZNAME:CST
DTSTART:20231105T070000
END:STANDARD
BEGIN:DAYLIGHT
TZOFFSETFROM:-0600
TZOFFSETTO:-0500
TZNAME:CDT
DTSTART:20240310T080000
END:DAYLIGHT
BEGIN:STANDARD
TZOFFSETFROM:-0500
TZOFFSETTO:-0600
TZNAME:CST
DTSTART:20241103T070000
END:STANDARD
END:VTIMEZONE
BEGIN:VEVENT
DTSTART;TZID=America/Chicago:20230328T140000
DTEND;TZID=America/Chicago:20230328T150000
DTSTAMP:20260421T131408
CREATED:20230320T205344Z
LAST-MODIFIED:20230320T205344Z
UID:10000022-1680012000-1680015600@nativegov.org
SUMMARY:NGC at Forum on Workplace Inclusion
DESCRIPTION:Native Governance Center staff are delivering a presentation\, “So You’ve Written A Land Acknowledgment: Now What?”\, at the 2023 Forum on Workplace Inclusion conference in Minneapolis\, MN. If you plan to attend the conference\, we encourage you to join us for our presentation. The presentation is scheduled for 2:00-3:00 PM CT on Tuesday\, March 28\, 2023.
URL:https://nativegov.org/event/forum-on-workplace-inclusion/
LOCATION:Hilton Minneapolis\, 1001 S Marquette Ave\, Minneapolis\, MN\, 55403\, United States
ATTACH;FMTTYPE=image/png:https://nativegov.org/wp-content/uploads/2023/03/2019_TheForum_Icon_RGB-1.png
END:VEVENT
END:VCALENDAR