BEGIN:VCALENDAR
VERSION:2.0
PRODID:-//Native Governance Center - ECPv6.15.17.1//NONSGML v1.0//EN
CALSCALE:GREGORIAN
METHOD:PUBLISH
X-ORIGINAL-URL:https://nativegov.org
X-WR-CALDESC:Events for Native Governance Center
REFRESH-INTERVAL;VALUE=DURATION:PT1H
X-Robots-Tag:noindex
X-PUBLISHED-TTL:PT1H
BEGIN:VTIMEZONE
TZID:America/Chicago
BEGIN:DAYLIGHT
TZOFFSETFROM:-0600
TZOFFSETTO:-0500
TZNAME:CDT
DTSTART:20210314T080000
END:DAYLIGHT
BEGIN:STANDARD
TZOFFSETFROM:-0500
TZOFFSETTO:-0600
TZNAME:CST
DTSTART:20211107T070000
END:STANDARD
BEGIN:DAYLIGHT
TZOFFSETFROM:-0600
TZOFFSETTO:-0500
TZNAME:CDT
DTSTART:20220313T080000
END:DAYLIGHT
BEGIN:STANDARD
TZOFFSETFROM:-0500
TZOFFSETTO:-0600
TZNAME:CST
DTSTART:20221106T070000
END:STANDARD
BEGIN:DAYLIGHT
TZOFFSETFROM:-0600
TZOFFSETTO:-0500
TZNAME:CDT
DTSTART:20230312T080000
END:DAYLIGHT
BEGIN:STANDARD
TZOFFSETFROM:-0500
TZOFFSETTO:-0600
TZNAME:CST
DTSTART:20231105T070000
END:STANDARD
END:VTIMEZONE
BEGIN:VEVENT
DTSTART;TZID=America/Chicago:20221101T000000
DTEND;TZID=America/Chicago:20221117T235900
DTSTAMP:20260421T231718
CREATED:20221012T202950Z
LAST-MODIFIED:20221012T202950Z
UID:10000020-1667260800-1668729540@nativegov.org
SUMMARY:Give to the Max Day 2022
DESCRIPTION:When the going gets ruff\, Rez dogs are truly sovereignty’s best friend\nJoin us for our 2022 Give to the Max Day campaign featuring our best friends – Rez dogs! Systems change work can be hard work\, and our Rez dogs are always there to keep us grounded. \nDonate to Native Governance Center for Give to the Max Day: November 1-17\, 2022. Learn more\, and make a gift here.
URL:https://nativegov.org/event/give-to-the-max-day-2022/
CATEGORIES:GTMD
ATTACH;FMTTYPE=image/jpeg:https://nativegov.org/wp-content/uploads/2022/10/IMG_3497-scaled.jpg
END:VEVENT
END:VCALENDAR